BEGIN:VCALENDAR
VERSION:2.0
PRODID:-//eventon.com NONSGML v1.0//EN
CALSCALE:GREGORIAN
METHOD:PUBLISH
BEGIN:VEVENT
UID:69e74ef3ac7ad
DTSTAMP:20260421T101827Z
DTSTART:20171010
DTEND:20171011
LOCATION:Kenwick School 1 Moore St Kenwick WA 6107
SUMMARY:Term 4 Start - Tuesday October 10th 2017
DESCRIPTION:Term 4 will begin on Tuesday October 10th 2017.\nhttps://kenwic
 kschool.wa.edu.au/events/term-4-start-tuesday-october-10th-2017/
URL:https://kenwickschool.wa.edu.au/events/term-4-start-tuesday-october-10th-2017/
END:VEVENT
END:VCALENDAR