BEGIN:VCALENDAR
VERSION:2.0
PRODID:-//eventon.com NONSGML v1.0//EN
CALSCALE:GREGORIAN
METHOD:PUBLISH
BEGIN:VEVENT
UID:69e63675155bd
DTSTAMP:20260420T142141Z
DTSTART:20190723T083000Z
DTEND:20190723T143000Z
LOCATION:Kenwick School 1 Moore St Kenwick WA 6107
SUMMARY:Start of Term 3
DESCRIPTION:Start of Term 3\nhttps://kenwickschool.wa.edu.au/events/start-o
 f-term-3/
URL:https://kenwickschool.wa.edu.au/events/start-of-term-3/
END:VEVENT
END:VCALENDAR